257.157892176319080
0.000000000000000
0.000000000000000
-256.942877216304910
1247074.580424361900000
524880.568125693710000
